BEGIN:VCALENDAR
VERSION:2.0
PRODID:-//Mangiafino | Mediterrane Spezialitäten - ECPv6.5.0.1//NONSGML v1.0//EN
CALSCALE:GREGORIAN
METHOD:PUBLISH
X-ORIGINAL-URL:https://mangiafino.com
X-WR-CALDESC:Veranstaltungen für Mangiafino | Mediterrane Spezialitäten
REFRESH-INTERVAL;VALUE=DURATION:PT1H
X-Robots-Tag:noindex
X-PUBLISHED-TTL:PT1H
BEGIN:VTIMEZONE
TZID:Europe/Paris
BEGIN:DAYLIGHT
TZOFFSETFROM:+0100
TZOFFSETTO:+0200
TZNAME:CEST
DTSTART:20240331T010000
END:DAYLIGHT
BEGIN:STANDARD
TZOFFSETFROM:+0200
TZOFFSETTO:+0100
TZNAME:CET
DTSTART:20241027T010000
END:STANDARD
END:VTIMEZONE
BEGIN:VEVENT
DTSTART;TZID=Europe/Paris:20240817T120000
DTEND;TZID=Europe/Paris:20240818T220000
DTSTAMP:20260420T095538
CREATED:20240508T230429Z
LAST-MODIFIED:20240813T210508Z
UID:4009-1723896000-1724018400@mangiafino.com
SUMMARY:Pistachio Festival 2024
DESCRIPTION:Entdecke leckere Gerichte rund um die Pistazie. An unserem Stand gibt es nicht nur unsere beliebten Pistazien-Spezialitäten\, sondern auch frisch zubereitete Crêpes mit Pistaziencreme.
URL:https://mangiafino.com/event/pistacchio-festival/
LOCATION:Jules B-Part\, Berlin
CATEGORIES:Festival
ATTACH;FMTTYPE=image/jpeg:https://mangiafino.com/wp-content/uploads/2024/05/Pistachio2024.jpg
END:VEVENT
BEGIN:VEVENT
DTSTART;TZID=Europe/Paris:20240726T180000
DTEND;TZID=Europe/Paris:20240727T010000
DTSTAMP:20260420T095538
CREATED:20240715T200842Z
LAST-MODIFIED:20240715T204556Z
UID:4813-1722016800-1722042000@mangiafino.com
SUMMARY:Summer Wine Tasting
DESCRIPTION:Verkoste mit uns ausgezeichneten Wein bei köstlichem 3-Gänge-Buffet. Treffe interessante Personen und freue dich auf tolle Gespräche in angenehmer Atmosphäre.
URL:https://mangiafino.com/event/summer-wine-tasting/
LOCATION:The Senses\, Simon Dach Straße 1\, Berlin\, 10245\, Deutschland
CATEGORIES:Wine Tasting
ATTACH;FMTTYPE=image/jpeg:https://mangiafino.com/wp-content/uploads/2024/07/Summer-Wine.jpg
END:VEVENT
END:VCALENDAR